BEGIN:VCALENDAR
VERSION:2.0
PRODID:-//hacksw/handcal//NONSGML v1.0//EN
BEGIN:VEVENT
SUMMARY:Challenge Andre Dalele 11 Decembre 2011
UID:2d9ad2c5-2f9e-455e-b8a5-2066328894b1
DTSTART:20111211T230000Z
DTEND:20111212T230000Z
LOCATION:Localisation   
CATEGORIES:Sportif
STATUS:
DESCRIPTION:Filles:
 -32 kgs : 3. GIGORD Salom?e
 -36 kgs : 1. DO MONTE
 Marie
 -40 kgs : 1. LASSAUGE L?a
 -44 kgs : 2. CADENET Maria
           
       3. BUISSON DE LARICHAUDY Camille
 -57 kgs : 3. GENNA
 Lucinda
 
 Gar?ons:
 -34 kgs: 1. LATCHOUMANE Samuel
                 3.
 ROUDON Paul
 
 -38 kgs : 2. DAMOUR Guillaume
 
 -42 kgs : 2. JUSTINE
 Julien
 
 -46 kgs : 3. DUGAIN K?vin
 
 -60 kgs : 1. SHUM KIVAN Diovane
URL;VALUE=URI:https://www.jcm974stdenis.org/evenements/2011/12/12/challenge-andre-dalele-11-decembre-2011-52058
END:VEVENT
END:VCALENDAR
